BEGIN:VCALENDAR
VERSION:2.0
PRODID:-//Mark Adler Art - ECPv6.15.17.1//NONSGML v1.0//EN
CALSCALE:GREGORIAN
METHOD:PUBLISH
X-ORIGINAL-URL:https://markadlerart.com
X-WR-CALDESC:Events for Mark Adler Art
REFRESH-INTERVAL;VALUE=DURATION:PT1H
X-Robots-Tag:noindex
X-PUBLISHED-TTL:PT1H
BEGIN:VTIMEZONE
TZID:America/New_York
BEGIN:DAYLIGHT
TZOFFSETFROM:-0500
TZOFFSETTO:-0400
TZNAME:EDT
DTSTART:20250309T070000
END:DAYLIGHT
BEGIN:STANDARD
TZOFFSETFROM:-0400
TZOFFSETTO:-0500
TZNAME:EST
DTSTART:20251102T060000
END:STANDARD
BEGIN:DAYLIGHT
TZOFFSETFROM:-0500
TZOFFSETTO:-0400
TZNAME:EDT
DTSTART:20260308T070000
END:DAYLIGHT
BEGIN:STANDARD
TZOFFSETFROM:-0400
TZOFFSETTO:-0500
TZNAME:EST
DTSTART:20261101T060000
END:STANDARD
BEGIN:DAYLIGHT
TZOFFSETFROM:-0500
TZOFFSETTO:-0400
TZNAME:EDT
DTSTART:20270314T070000
END:DAYLIGHT
BEGIN:STANDARD
TZOFFSETFROM:-0400
TZOFFSETTO:-0500
TZNAME:EST
DTSTART:20271107T060000
END:STANDARD
END:VTIMEZONE
BEGIN:VEVENT
DTSTART;TZID=America/New_York:20260105T000000
DTEND;TZID=America/New_York:20260508T235959
DTSTAMP:20260423T134302
CREATED:20251229T182308Z
LAST-MODIFIED:20260101T192243Z
UID:2234-1767571200-1778284799@markadlerart.com
SUMMARY:Winter Exhibit 2026 (Juried)
DESCRIPTION:
URL:https://markadlerart.com/event/winter-exhibit-2026/
LOCATION:Crestwood Gallery\, 7211 Bank Court\, Frederick\, MD\, 21703\, United States
CATEGORIES:Exhibits
END:VEVENT
BEGIN:VEVENT
DTSTART;TZID=America/New_York:20260307T100000
DTEND;TZID=America/New_York:20260422T160000
DTSTAMP:20260423T134302
CREATED:20260215T160653Z
LAST-MODIFIED:20260215T160658Z
UID:2310-1772877600-1776873600@markadlerart.com
SUMMARY:34th Annual Strathmore Juried Exhibition:  Steeped
DESCRIPTION:
URL:https://markadlerart.com/event/34th-annual-strathmore-juried-exhibition-steeped/
LOCATION:The Mansion at Strathmore\, 10701 Rockville Pike\, Rockville\, MD\, 20852\, United States
CATEGORIES:Exhibits
END:VEVENT
BEGIN:VEVENT
DTSTART;TZID=America/New_York:20260404T120000
DTEND;TZID=America/New_York:20260426T170000
DTSTAMP:20260423T134302
CREATED:20260328T232627Z
LAST-MODIFIED:20260328T232632Z
UID:2425-1775304000-1777222800@markadlerart.com
SUMMARY:Artspiration Members Only Art Exhibit
DESCRIPTION:
URL:https://markadlerart.com/event/artspiration-members-only-art-exhibit/
LOCATION:Artspiration Art Gallery\, 915 Toll House Avenue\, Suite 101\, Frederick\, Maryland\, 21701\, United States
CATEGORIES:Exhibits
END:VEVENT
END:VCALENDAR