BEGIN:VCALENDAR
VERSION:2.0
PRODID:-//Mark Adler Art - ECPv6.15.17.1//NONSGML v1.0//EN
CALSCALE:GREGORIAN
METHOD:PUBLISH
X-WR-CALNAME:Mark Adler Art
X-ORIGINAL-URL:https://markadlerart.com
X-WR-CALDESC:Events for Mark Adler Art
REFRESH-INTERVAL;VALUE=DURATION:PT1H
X-Robots-Tag:noindex
X-PUBLISHED-TTL:PT1H
BEGIN:VTIMEZONE
TZID:America/New_York
BEGIN:DAYLIGHT
TZOFFSETFROM:-0500
TZOFFSETTO:-0400
TZNAME:EDT
DTSTART:20240310T070000
END:DAYLIGHT
BEGIN:STANDARD
TZOFFSETFROM:-0400
TZOFFSETTO:-0500
TZNAME:EST
DTSTART:20241103T060000
END:STANDARD
BEGIN:DAYLIGHT
TZOFFSETFROM:-0500
TZOFFSETTO:-0400
TZNAME:EDT
DTSTART:20250309T070000
END:DAYLIGHT
BEGIN:STANDARD
TZOFFSETFROM:-0400
TZOFFSETTO:-0500
TZNAME:EST
DTSTART:20251102T060000
END:STANDARD
BEGIN:DAYLIGHT
TZOFFSETFROM:-0500
TZOFFSETTO:-0400
TZNAME:EDT
DTSTART:20260308T070000
END:DAYLIGHT
BEGIN:STANDARD
TZOFFSETFROM:-0400
TZOFFSETTO:-0500
TZNAME:EST
DTSTART:20261101T060000
END:STANDARD
BEGIN:DAYLIGHT
TZOFFSETFROM:-0500
TZOFFSETTO:-0400
TZNAME:EDT
DTSTART:20270314T070000
END:DAYLIGHT
BEGIN:STANDARD
TZOFFSETFROM:-0400
TZOFFSETTO:-0500
TZNAME:EST
DTSTART:20271107T060000
END:STANDARD
END:VTIMEZONE
BEGIN:VEVENT
DTSTART;TZID=America/New_York:20260212T170000
DTEND;TZID=America/New_York:20260212T200000
DTSTAMP:20260423T203408
CREATED:20251229T184313Z
LAST-MODIFIED:20260130T085227Z
UID:2236-1770915600-1770926400@markadlerart.com
SUMMARY:Meet the Artists
DESCRIPTION:
URL:https://markadlerart.com/event/meet-the-artists/
LOCATION:Windridge Vineyards\, 15700 Darnestown Road\, Darnestown\, MD\, 20874\, United States
CATEGORIES:Exhibits
END:VEVENT
BEGIN:VEVENT
DTSTART;TZID=America/New_York:20260206T173000
DTEND;TZID=America/New_York:20260206T203000
DTSTAMP:20260423T203408
CREATED:20260124T145934Z
LAST-MODIFIED:20260124T145943Z
UID:2288-1770399000-1770409800@markadlerart.com
SUMMARY:Beacon in the Park First Friday Art Exhibit and Silent Auction (Juried)
DESCRIPTION:
URL:https://markadlerart.com/event/beacon-in-the-park-first-friday-art-exhibit-and-silent-auction-juried-2/
LOCATION:First Presbyterian Church of Albany\, Assembly Hall\, 362 State Street\, Albany\, NY\, 12210\, United States
CATEGORIES:Exhibits
END:VEVENT
BEGIN:VEVENT
DTSTART;TZID=America/New_York:20260103T000000
DTEND;TZID=America/New_York:20260201T235959
DTSTAMP:20260423T203408
CREATED:20251229T181318Z
LAST-MODIFIED:20251229T181325Z
UID:2230-1767398400-1769990399@markadlerart.com
SUMMARY:FCAA Membership Exhibit
DESCRIPTION:
URL:https://markadlerart.com/event/fcaa-membership-exhibit/
LOCATION:Delaplaine Arts Center\, 40 S. Carroll Street\, Frederick\, MD\, 21701\, United States
CATEGORIES:Exhibits
END:VEVENT
BEGIN:VEVENT
DTSTART;TZID=America/New_York:20251122T000000
DTEND;TZID=America/New_York:20260110T235959
DTSTAMP:20260423T203408
CREATED:20251229T182031Z
LAST-MODIFIED:20260101T192359Z
UID:2232-1763769600-1768089599@markadlerart.com
SUMMARY:The Miniature Painters\, Sculptors & Gravers Society of Washington\, DC’s 92nd Annual Exhibition of Fine Art in Miniature (Juried)
DESCRIPTION:
URL:https://markadlerart.com/event/the-miniature-painters-sculptors-gravers-society-of-washington-dcs-92nd-annual-exhibition-of-fine-art-in-miniature/
LOCATION:The Mansion at Strathmore\, 10701 Rockville Pike\, Rockville\, MD\, 20852\, United States
CATEGORIES:Exhibits
END:VEVENT
END:VCALENDAR