BEGIN:VCALENDAR
VERSION:2.0
PRODID:-//Mark Adler Art - ECPv6.15.17.1//NONSGML v1.0//EN
CALSCALE:GREGORIAN
METHOD:PUBLISH
X-WR-CALNAME:Mark Adler Art
X-ORIGINAL-URL:https://markadlerart.com
X-WR-CALDESC:Events for Mark Adler Art
REFRESH-INTERVAL;VALUE=DURATION:PT1H
X-Robots-Tag:noindex
X-PUBLISHED-TTL:PT1H
BEGIN:VTIMEZONE
TZID:America/New_York
BEGIN:DAYLIGHT
TZOFFSETFROM:-0500
TZOFFSETTO:-0400
TZNAME:EDT
DTSTART:20250309T070000
END:DAYLIGHT
BEGIN:STANDARD
TZOFFSETFROM:-0400
TZOFFSETTO:-0500
TZNAME:EST
DTSTART:20251102T060000
END:STANDARD
BEGIN:DAYLIGHT
TZOFFSETFROM:-0500
TZOFFSETTO:-0400
TZNAME:EDT
DTSTART:20260308T070000
END:DAYLIGHT
BEGIN:STANDARD
TZOFFSETFROM:-0400
TZOFFSETTO:-0500
TZNAME:EST
DTSTART:20261101T060000
END:STANDARD
BEGIN:DAYLIGHT
TZOFFSETFROM:-0500
TZOFFSETTO:-0400
TZNAME:EDT
DTSTART:20270314T070000
END:DAYLIGHT
BEGIN:STANDARD
TZOFFSETFROM:-0400
TZOFFSETTO:-0500
TZNAME:EST
DTSTART:20271107T060000
END:STANDARD
END:VTIMEZONE
BEGIN:VEVENT
DTSTART;TZID=America/New_York:20260418T080000
DTEND;TZID=America/New_York:20260531T170000
DTSTAMP:20260423T170029
CREATED:20260412T102113Z
LAST-MODIFIED:20260412T102117Z
UID:2453-1776499200-1780246800@markadlerart.com
SUMMARY:Laurel Arts Guild 57th Annual Art Open Juried Exhibition
DESCRIPTION:
URL:https://markadlerart.com/event/laurel-arts-guild-57th-annual-art-open-juried-exhibition/
LOCATION:Montpelier Arts Center\, 9652 Muirkirk Rd\, Maryland\, 20708\, United States
CATEGORIES:Exhibits
END:VEVENT
BEGIN:VEVENT
DTSTART;TZID=America/New_York:20260503T080000
DTEND;TZID=America/New_York:20260527T170000
DTSTAMP:20260423T170030
CREATED:20260322T101714Z
LAST-MODIFIED:20260322T101720Z
UID:2372-1777795200-1779901200@markadlerart.com
SUMMARY:A Lifetime of Perspective: Art Exhibit at Bender JCC's Goldman Gallery
DESCRIPTION:
URL:https://markadlerart.com/event/a-lifetime-of-perspective-art-exhibit-at-bender-jccs-goldman-gallery/
LOCATION:Bender JCC of Greater Washington\, 6125 Montrose Road\, Rockville\, Maryland\, 20854\, United States
CATEGORIES:Exhibits
END:VEVENT
BEGIN:VEVENT
DTSTART;TZID=America/New_York:20260504T080000
DTEND;TZID=America/New_York:20260615T170000
DTSTAMP:20260423T170030
CREATED:20260406T104409Z
LAST-MODIFIED:20260412T101144Z
UID:2440-1777881600-1781542800@markadlerart.com
SUMMARY:Where the Gardens Meet Art:  Exhibit at Brookside Gardens
DESCRIPTION:
URL:https://markadlerart.com/event/where-the-gardens-meet-art-exhibit-at-brookside-gardens/
LOCATION:Brookside Gardens\, 1800 Glenallan Ave.\, Wheaton\, Maryland\, 20902\, United States
CATEGORIES:Exhibits
END:VEVENT
BEGIN:VEVENT
DTSTART;TZID=America/New_York:20260514T150000
DTEND;TZID=America/New_York:20260514T160000
DTSTAMP:20260423T170030
CREATED:20260406T104711Z
LAST-MODIFIED:20260406T104717Z
UID:2444-1778770800-1778774400@markadlerart.com
SUMMARY:Meet the Artists Reception for Where the Gardens Meet Art: Exhibit at Brookside Gardens
DESCRIPTION:
URL:https://markadlerart.com/event/meet-the-artists-reception-for-where-the-gardens-meet-art-exhibit-at-brookside-gardens/
LOCATION:Brookside Gardens\, 1800 Glenallan Ave.\, Wheaton\, Maryland\, 20902\, United States
CATEGORIES:Exhibits
END:VEVENT
BEGIN:VEVENT
DTSTART;TZID=America/New_York:20260516T103000
DTEND;TZID=America/New_York:20260725T170000
DTSTAMP:20260423T170030
CREATED:20260322T103041Z
LAST-MODIFIED:20260322T103048Z
UID:2378-1778927400-1784998800@markadlerart.com
SUMMARY:Baltimore Watercolor Society All Member Exhibit at the Meeting House Gallery
DESCRIPTION:
URL:https://markadlerart.com/event/baltimore-watercolor-society-all-member-exhibit-at-the-meeting-house-gallery/
LOCATION:The Meeting House Gallery\, 5885 Robert Oliver Place\, Columbia\, Maryland\, 20854\, United States
CATEGORIES:Exhibits
END:VEVENT
BEGIN:VEVENT
DTSTART;TZID=America/New_York:20260614T140000
DTEND;TZID=America/New_York:20260614T160000
DTSTAMP:20260423T170030
CREATED:20260322T103303Z
LAST-MODIFIED:20260322T103435Z
UID:2384-1781445600-1781452800@markadlerart.com
SUMMARY:Reception for the Baltimore Watercolor Society All Member Exhibit at the Meeting house Gallery
DESCRIPTION:
URL:https://markadlerart.com/event/reception-for-the-baltimore-watercolor-society-all-member-exhibit-at-the-meeting-house-gallery/
LOCATION:The Meeting House Gallery\, 5885 Robert Oliver Place\, Columbia\, Maryland\, 20854\, United States
CATEGORIES:Exhibits
END:VEVENT
END:VCALENDAR